BEGIN:VCALENDAR
VERSION:2.0
PRODID:-//MADE VISIBLE® by TCS - ECPv6.15.18//NONSGML v1.0//EN
CALSCALE:GREGORIAN
METHOD:PUBLISH
X-ORIGINAL-URL:https://madevisible.swiss
X-WR-CALDESC:Eventi per MADE VISIBLE® by TCS
REFRESH-INTERVAL;VALUE=DURATION:PT1H
X-Robots-Tag:noindex
X-PUBLISHED-TTL:PT1H
BEGIN:VTIMEZONE
TZID:Europe/Zurich
BEGIN:DAYLIGHT
TZOFFSETFROM:+0100
TZOFFSETTO:+0200
TZNAME:CEST
DTSTART:20240331T010000
END:DAYLIGHT
BEGIN:STANDARD
TZOFFSETFROM:+0200
TZOFFSETTO:+0100
TZNAME:CET
DTSTART:20241027T010000
END:STANDARD
BEGIN:DAYLIGHT
TZOFFSETFROM:+0100
TZOFFSETTO:+0200
TZNAME:CEST
DTSTART:20250330T010000
END:DAYLIGHT
BEGIN:STANDARD
TZOFFSETFROM:+0200
TZOFFSETTO:+0100
TZNAME:CET
DTSTART:20251026T010000
END:STANDARD
BEGIN:DAYLIGHT
TZOFFSETFROM:+0100
TZOFFSETTO:+0200
TZNAME:CEST
DTSTART:20260329T010000
END:DAYLIGHT
BEGIN:STANDARD
TZOFFSETFROM:+0200
TZOFFSETTO:+0100
TZNAME:CET
DTSTART:20261025T010000
END:STANDARD
BEGIN:DAYLIGHT
TZOFFSETFROM:+0100
TZOFFSETTO:+0200
TZNAME:CEST
DTSTART:20270328T010000
END:DAYLIGHT
BEGIN:STANDARD
TZOFFSETFROM:+0200
TZOFFSETTO:+0100
TZNAME:CET
DTSTART:20271031T010000
END:STANDARD
END:VTIMEZONE
BEGIN:VEVENT
DTSTART;TZID=Europe/Zurich:20251108T080000
DTEND;TZID=Europe/Zurich:20251108T190000
DTSTAMP:20260420T150101
CREATED:20251016T121437Z
LAST-MODIFIED:20251105T153402Z
UID:10000278-1762588800-1762628400@madevisible.swiss
SUMMARY:Austausch TCS Sektion beider Basel
DESCRIPTION:Im November ist die TCS-Sektion beider Basel mit den TCS-Kontaktstellen-Anhänger:innen an diversen Märkten und Messen im Raum Basel-Land präsent. Ziel dieser Veranstaltung ist es\, die Präsenz der Sektion in der Region zu stärken und den Dialog mit den Mitgliedern zu fördern. \nAn folgenden Orten finden die Austausche statt: \n\nLiestal Genussmarkt: 08.11.2025 08:00 Uhr – 13:00 Uhr\nSissach Herbstmarkt: 12.11.2025 08:00 Uhr – 18:30 Uhr\nReinach Wochenmarkt: 14.11.2025 08:30 Uhr – 11:30 Uhr\nLaufen Rathausplatz: 15.11.2025 10:00 Uhr – 16:00 Uhr\nReinach Monatsmarkt: 25.11.2025 10:00 Uhr – 20:00 Uhr
URL:https://madevisible.swiss/event/austausch-tcs-sektion-beider-basel/
LOCATION:Kanton Basel-Landschaft\, BS\, Schweiz
ORGANIZER;CN="TCS Sektion beider Basel":MAILTO:juri.schwendemann@tcs.ch
END:VEVENT
BEGIN:VEVENT
DTSTART;TZID=Europe/Zurich:20251108T190000
DTEND;TZID=Europe/Zurich:20251108T220000
DTSTAMP:20260420T150101
CREATED:20251024T074748Z
LAST-MODIFIED:20251024T074748Z
UID:10000318-1762628400-1762639200@madevisible.swiss
SUMMARY:Verteilaktion SC Langenthal und TCS Sektion Bern
DESCRIPTION:Ergattere reflektierende Sticker vom SC Langenthal! Am 8.11.25 werden Flyer von MADE VISIBLE by TCS mit reflektierenden SC Langenthal-Stickern im Stadion verteilt. Gemeinsam mit der TCS Sektion Bern sorgt der SC Langenthal dafür\, dass Sie nicht nur das Spiel geniessen\, sondern auch sicherer nach Hause kommen.
URL:https://madevisible.swiss/event/verteilaktion-sc-langenthal-und-tcs-sektion-bern/
LOCATION:Eishalle Schoren Langenthal\, Dorfgasse 99\, Langenthal\, Oberaargau\, 4900
GEO:47.206762229909;7.7740627087043
X-APPLE-STRUCTURED-LOCATION;VALUE=URI;X-ADDRESS=Eishalle Schoren Langenthal Dorfgasse 99 Langenthal Oberaargau 4900;X-APPLE-RADIUS=500;X-TITLE=Dorfgasse 99:geo:7.7740627087043,47.206762229909
END:VEVENT
BEGIN:VEVENT
DTSTART;TZID=Europe/Zurich:20251109T070000
DTEND;TZID=Europe/Zurich:20251109T090000
DTSTAMP:20260420T150101
CREATED:20251014T082812Z
LAST-MODIFIED:20251014T082826Z
UID:10000245-1762671600-1762678800@madevisible.swiss
SUMMARY:Aktionen im Bezirk Zollikofen
DESCRIPTION:Es erfolgen regelmässige Aktionen zu aktuellen Themen. Ab Oktober/November wird dies die Sichtbarkeit betreffen. Dabei werden je nach Veranstaltung unterschiedliche Give-aways an die Teilnehmenden verteilt. \nEs gibt mehrere Termine\, an denen die geplanten Aktionen durchgeführt werden. Die Zeiten und Örtlichkeiten sind ebenfalls verschieden. Die Polizeiwache Zollikofen und Ittigen wird die Aktionen im Bezirk Zollikofen (Bolligen bis Innerberg) durchführen. \nDas Datum ist lediglich ein Beispiel von mehreren.
URL:https://madevisible.swiss/event/aktionen-im-bezirk-zollikofen/
LOCATION:Bezirk Zollikofen\, Eichenweg 4\, Zollikofen\, 3052\, Schweiz
ORGANIZER;CN="Polizeiwache Zollikofen":MAILTO:phga@police.be.ch
END:VEVENT
BEGIN:VEVENT
DTSTART;TZID=Europe/Zurich:20251109T110000
DTEND;TZID=Europe/Zurich:20251109T153000
DTSTAMP:20260420T150101
CREATED:20251014T150938Z
LAST-MODIFIED:20251014T150938Z
UID:10000254-1762686000-1762702200@madevisible.swiss
SUMMARY:Repair Café: Atelier de réparation gratuit et participatif
DESCRIPTION:
URL:https://madevisible.swiss/event/repair-cafe-atelier-de-reparation-gratuit-et-participatif/
LOCATION:La Chaux-de-Fonds\, Av. Léopold-Robert 2\, La Chaux-de-Fonds\, 2300\, Schweiz
ORGANIZER;CN="SEL (Syst%C3%A8me d'Echange Local) de La Chaux-de-Fonds":MAILTO:sel-la-chaux-de-fonds@bluewin.ch
GEO:47.102922;6.831801
X-APPLE-STRUCTURED-LOCATION;VALUE=URI;X-ADDRESS=La Chaux-de-Fonds Av. Léopold-Robert 2 La Chaux-de-Fonds 2300 Schweiz;X-APPLE-RADIUS=500;X-TITLE=Av. Léopold-Robert 2:geo:6.831801,47.102922
END:VEVENT
BEGIN:VEVENT
DTSTART;TZID=Europe/Zurich:20251109T150000
DTEND;TZID=Europe/Zurich:20251109T180000
DTSTAMP:20260420T150101
CREATED:20251024T075244Z
LAST-MODIFIED:20251024T075244Z
UID:10000321-1762700400-1762711200@madevisible.swiss
SUMMARY:Verteilaktion FC Biel und TCS Sektion Biel
DESCRIPTION:Ergattere reflektierende Sticker vom FC Biel! Am 9.11.25 werden Flyer von MADE VISIBLE by TCS mit reflektierenden FC Biel-Stickern im Stadion verteilt. Gemeinsam mit der TCS Sektion Biel sorgt der FC Biel dafür\, dass Sie nicht nur das Spiel geniessen\, sondern auch sicherer nach Hause kommen.
URL:https://madevisible.swiss/event/verteilaktion-fc-biel-und-tcs-sektion-biel/
LOCATION:Tissot Arena\, Boulevard des Sports 18\, Biel\, BE\, 2504\, Schweiz
ORGANIZER;CN="TCS Sektion Biel-Seeland":MAILTO:stefan.strub@tcs.ch
END:VEVENT
BEGIN:VEVENT
DTSTART;TZID=Europe/Zurich:20251110T163000
DTEND;TZID=Europe/Zurich:20251110T193000
DTSTAMP:20260420T150101
CREATED:20251016T122631Z
LAST-MODIFIED:20251016T122631Z
UID:10000284-1762792200-1762803000@madevisible.swiss
SUMMARY:TCS Lichtkontrollen im Kanton Schwyz
DESCRIPTION:
URL:https://madevisible.swiss/event/tcs-lichtkontrollen-im-kanton-schwyz/
LOCATION:Kanton Schwyz\, Kanton Schwyz\, Schweiz
GEO:47.02292;8.638363
END:VEVENT
BEGIN:VEVENT
DTSTART;TZID=Europe/Zurich:20251113T140000
DTEND;TZID=Europe/Zurich:20251113T170000
DTSTAMP:20260420T150101
CREATED:20251104T091900Z
LAST-MODIFIED:20251104T091900Z
UID:10000348-1763042400-1763053200@madevisible.swiss
SUMMARY:Journée des futurs en tous genres 2025
DESCRIPTION:
URL:https://madevisible.swiss/event/journee-des-futurs-en-tous-genres-2025/
LOCATION:Poste de police municipale des acacias\, Rte des Acacias 36\, Carouge\, GE\, 1227
END:VEVENT
BEGIN:VEVENT
DTSTART;TZID=Europe/Zurich:20251114T194500
DTEND;TZID=Europe/Zurich:20251114T220000
DTSTAMP:20260420T150101
CREATED:20251024T080844Z
LAST-MODIFIED:20251024T080844Z
UID:10000330-1763149500-1763157600@madevisible.swiss
SUMMARY:Verteilaktion SC Bern und TCS Sektion Bern
DESCRIPTION:Ergattere reflektierende Sticker vom SC Bern! Am 14.11.25 werden Flyer von MADE VISIBLE by TCS mit reflektierenden SC Bern-Stickern im Stadion verteilt. Gemeinsam mit der TCS Sektion Bern sorgt der SC Bern dafür\, dass Sie nicht nur das Spiel geniessen\, sondern auch sicherer nach Hause kommen.
URL:https://madevisible.swiss/event/verteilaktion-sc-bern-und-tcs-sektion-bern/
LOCATION:Postfinance Arena\, Mingerstrasse 12B\, Bern\, Bern-Mittelland\, 3014\, Switzerland
GEO:46.9582481;7.4691122
X-APPLE-STRUCTURED-LOCATION;VALUE=URI;X-ADDRESS=Postfinance Arena Mingerstrasse 12B Bern Bern-Mittelland 3014 Switzerland;X-APPLE-RADIUS=500;X-TITLE=Mingerstrasse 12B:geo:7.4691122,46.9582481
END:VEVENT
BEGIN:VEVENT
DTSTART;TZID=Europe/Zurich:20251115T080000
DTEND;TZID=Europe/Zurich:20251115T170000
DTSTAMP:20260420T150101
CREATED:20251009T133251Z
LAST-MODIFIED:20251009T133251Z
UID:10000227-1763193600-1763226000@madevisible.swiss
SUMMARY:Stands d'information à Bulle
DESCRIPTION:Pendant les vacances d’automne et pendant la course « Corrida Bulloise »\, la police cantonale de Fribourg tiendra plusieurs stands d’information. Les visiteurs y trouveront des informations utiles sur la sécurité routière et les mesures de prévention.
URL:https://madevisible.swiss/event/stands-dinformation-a-bulle/
LOCATION:Gruyère-Centre\, Rue du Château-d'En-Bas 2\, Bulle\, Fribourg\, 1630\, Schweiz
ORGANIZER;CN="Polizia cantonale di Friburgo":MAILTO:polci@fr.ch
END:VEVENT
BEGIN:VEVENT
DTSTART;TZID=Europe/Zurich:20251119T133000
DTEND;TZID=Europe/Zurich:20251119T163000
DTSTAMP:20260420T150101
CREATED:20251016T115254Z
LAST-MODIFIED:20251016T115254Z
UID:10000260-1763559000-1763569800@madevisible.swiss
SUMMARY:Ateliers bricolages Made Visible pour les enfants
DESCRIPTION:Dans le cadre de la campagne annuelle nationale « Made Visible » visant à sensibiliser tous les usagers de la route à la visibilité à la tombée de la nuit\, nous organisons trois ateliers de bricolage pour les enfants de 3 à 12 ans. \nDécoupe\, dessine et colle des stickers réfléchissants sur ton casque de vélo\, tes bottes ou ton vélo\, et crée un look unique !\nRends-toi visible et roule en toute sécurité avec des accessoires étincelants.\nPour cet atelier\, il te suffira de prendre avec toi l’accessoire que tu souhaites décorer ; nous fournissons le reste ! \nChaque enfant repartira avec de jolis souvenirs et un petit cadeau. \nLieu : TCS Lausanne\, av. de Rumine 13\, Lausanne.\nEntre 13 h 30 et 16 h 30.\nEntrée libre dès 3 ans.
URL:https://madevisible.swiss/event/ateliers-bricolages-made-visible-pour-les-enfants/
LOCATION:TCS Lausanne\, Av. de Rumine 13\, Lausanne\, VD\, 1005\, Schweiz
ORGANIZER;CN="TCS Vaud":MAILTO:sectionvd@tcs.ch
END:VEVENT
BEGIN:VEVENT
DTSTART;TZID=Europe/Zurich:20251120T110000
DTEND;TZID=Europe/Zurich:20251121T210000
DTSTAMP:20260420T150101
CREATED:20251003T134124Z
LAST-MODIFIED:20251003T134207Z
UID:10000208-1763636400-1763758800@madevisible.swiss
SUMMARY:Polizeistand beim Stäfner Herbstmarkt
DESCRIPTION:Die örtliche Polizei ist mit einem Stand auf dem Stäfner Herbstmarkt vertreten. Dabei wird darüber informiert\, wie man sich in der dunklen Jahreszeit besser sichtbar machen kann. Interessierte können dazu auch entsprechendes Kampagnenmaterial erhalten. Am Donnerstag und Freitag\, den 20. und 21. November\, kannst du den Stand auf dem Stäfner Herbstmarkt finden.
URL:https://madevisible.swiss/event/polizeistand-beim-staefner-herbstmarkt/
LOCATION:8712 Stäfa\, Bahnhofstrasse (zw. Bahnhof und Seestrasse)\, Bahnhofstrasse\, Sträfa\, 8712\, Schweiz
ORGANIZER;CN="Gemeindeverwaltung Str%C3%A4fa / Polizei St%C3%A4fa":MAILTO:polizei@staefa.ch
GEO:47.2399298;8.7235391
X-APPLE-STRUCTURED-LOCATION;VALUE=URI;X-ADDRESS=8712 Stäfa Bahnhofstrasse (zw. Bahnhof und Seestrasse) Bahnhofstrasse Sträfa 8712 Schweiz;X-APPLE-RADIUS=500;X-TITLE=Bahnhofstrasse:geo:8.7235391,47.2399298
END:VEVENT
BEGIN:VEVENT
DTSTART;TZID=Europe/Zurich:20251120T163000
DTEND;TZID=Europe/Zurich:20251120T183000
DTSTAMP:20260420T150101
CREATED:20251014T084045Z
LAST-MODIFIED:20251014T084101Z
UID:10000248-1763656200-1763663400@madevisible.swiss
SUMMARY:Standaktion in versch. Einkaufszentren
DESCRIPTION:Gemeinsam mit der Einbruchsprävention (insbesondere im Zusammenhang mit sogenannten Dämmerungseinbrüchen) macht die Stadtpolizei Uster an drei Standaktionen die Bevölkerung auch auf die Bedeutung der Sichtbarkeit im Strassenverkehr aufmerksam. \nAm „Tag des Lichts“ (6. November 2025) werden zudem Fussgängerinnen und Fussgänger sowie Velofahrende auf die Wichtigkeit einer guten Sichtbarkeit in der Dunkelheit hingewiesen. \nDie Aktionen findet in den Einkaufszentren in Illuster\, Uster (Meierwis)\, Greifensee (Volg) und Nänikon statt.
URL:https://madevisible.swiss/event/standaktion-in-versch-einkaufszentren/
LOCATION:Shoppingcenter Illuster\, Zürichstrasse 16\, Uster\, ZH\, 8610\, Schweiz
ORGANIZER;CN="Stadtpolizei Uster":MAILTO:Laurent.vonrotz@uster.ch
END:VEVENT
BEGIN:VEVENT
DTSTART;TZID=Europe/Zurich:20251201T060000
DTEND;TZID=Europe/Zurich:20251201T200000
DTSTAMP:20260420T150101
CREATED:20251014T115420Z
LAST-MODIFIED:20251014T115447Z
UID:10000251-1764568800-1764619200@madevisible.swiss
SUMMARY:Verteilaktion von Sicherheitsartikeln vor den Schulen in Naters und Mörel
DESCRIPTION:Die Gemeindepolizei Naters verteilt in den Schulen Sicherheitsartikel für die dunklen Tageszeiten am Morgen und am Abend. Im Rahmen dieser Aktion geben Fachleute der Gemeindepolizei Naters an einer Standaktion vor den Schulgebäuden Tipps\, wie man in der dunklen Jahreszeit besser sichtbar bleibt. Besucherinnen und Besucher erhalten dabei ein reflektierendes Geschenk.
URL:https://madevisible.swiss/event/verteilaktion-von-sicherheitsartikeln-vor-den-schulen-in-naters-und-moerel/
LOCATION:Schule in Naters und Mörel\, Weingartenstrasse 11a\, Naters\, VS\, 3904
ORGANIZER;CN="Gemeindepolizei Naters":MAILTO:gemeindepolizei@naters.ch
END:VEVENT
BEGIN:VEVENT
DTSTART;TZID=Europe/Zurich:20251210T133000
DTEND;TZID=Europe/Zurich:20251210T163000
DTSTAMP:20260420T150101
CREATED:20251016T115534Z
LAST-MODIFIED:20251016T115534Z
UID:10000263-1765373400-1765384200@madevisible.swiss
SUMMARY:Ateliers bricolages Made Visible pour les enfants
DESCRIPTION:Dans le cadre de la campagne annuelle nationale « Made Visible » visant à sensibiliser tous les usagers de la route à la visibilité à la tombée de la nuit\, nous organisons trois ateliers de bricolage pour les enfants de 3 à 12 ans. \nDécoupe\, dessine et colle des stickers réfléchissants sur ton casque de vélo\, tes bottes ou ton vélo\, et crée un look unique !\nRends-toi visible et roule en toute sécurité avec des accessoires étincelants.\nPour cet atelier\, il te suffira de prendre avec toi l’accessoire que tu souhaites décorer ; nous fournissons le reste ! \nChaque enfant repartira avec de jolis souvenirs et un petit cadeau. \nLieu : TCS Lausanne\, av. de Rumine 13\, Lausanne.\nEntre 13 h 30 et 16 h 30.\nEntrée libre dès 3 ans.
URL:https://madevisible.swiss/event/ateliers-bricolages-made-visible-pour-les-enfants-2/
LOCATION:TCS Lausanne\, Av. de Rumine 13\, Lausanne\, VD\, 1005\, Schweiz
ORGANIZER;CN="TCS Vaud":MAILTO:sectionvd@tcs.ch
END:VEVENT
BEGIN:VEVENT
DTSTART;TZID=Europe/Zurich:20251212T080000
DTEND;TZID=Europe/Zurich:20251212T170000
DTSTAMP:20260420T150101
CREATED:20251009T140500Z
LAST-MODIFIED:20251009T140516Z
UID:10000230-1765526400-1765558800@madevisible.swiss
SUMMARY:Generalversammlung des Velo-Moto Club Schattdorf
DESCRIPTION:Der Velo-Moto Club Schattdorf organisiert die jährliche Generalversammlung\, die sich mit den Themen Sicherheit und Sichtbarkeit sowie Unfallverhütung beschäftigt.
URL:https://madevisible.swiss/event/generalversammlung-des-velo-moto-club-schattdorf/
LOCATION:Velo-Moto Club Schattdorf\, Uri\, Schweiz
ORGANIZER;CN="Velo-Moto Club Schattdorf":MAILTO:toni.baumann@vmc-schattdorf.ch
END:VEVENT
BEGIN:VEVENT
DTSTART;TZID=Europe/Zurich:20251217T133000
DTEND;TZID=Europe/Zurich:20251217T163000
DTSTAMP:20260420T150101
CREATED:20251016T115712Z
LAST-MODIFIED:20251016T115712Z
UID:10000266-1765978200-1765989000@madevisible.swiss
SUMMARY:Ateliers bricolages Made Visible pour les enfants
DESCRIPTION:Dans le cadre de la campagne annuelle nationale « Made Visible » visant à sensibiliser tous les usagers de la route à la visibilité à la tombée de la nuit\, nous organisons trois ateliers de bricolage pour les enfants de 3 à 12 ans. \nDécoupe\, dessine et colle des stickers réfléchissants sur ton casque de vélo\, tes bottes ou ton vélo\, et crée un look unique !\nRends-toi visible et roule en toute sécurité avec des accessoires étincelants.\nPour cet atelier\, il te suffira de prendre avec toi l’accessoire que tu souhaites décorer ; nous fournissons le reste ! \nChaque enfant repartira avec de jolis souvenirs et un petit cadeau. \nLieu : TCS Lausanne\, av. de Rumine 13\, Lausanne.\nEntre 13 h 30 et 16 h 30.\nEntrée libre dès 3 ans.
URL:https://madevisible.swiss/event/ateliers-bricolages-made-visible-pour-les-enfants-3/
LOCATION:TCS Lausanne\, Av. de Rumine 13\, Lausanne\, VD\, 1005\, Schweiz
ORGANIZER;CN="TCS Vaud":MAILTO:sectionvd@tcs.ch
END:VEVENT
BEGIN:VEVENT
DTSTART;TZID=Europe/Zurich:20260309T080000
DTEND;TZID=Europe/Zurich:20260309T170000
DTSTAMP:20260420T150101
CREATED:20251013T094548Z
LAST-MODIFIED:20251013T094548Z
UID:10000236-1773043200-1773075600@madevisible.swiss
SUMMARY:Veloparcour in Schulen für SchülerInnen in Naters und Mörel
DESCRIPTION:Die Gemeindepolizei Naters führt in den Schulen in Naters und Mörel einen Veloparcours durch. Das Ziel besteht darin\, dass die Schülerinnen und Schüler sicherer mit dem Fahrrad unterwegs sind.
URL:https://madevisible.swiss/event/veloparcour-in-schulen-fuer-schuelerinnen-in-naters-und-moerel/
LOCATION:Schule in Naters und Mörel\, Weingartenstrasse 11a\, Naters\, VS\, 3904
ORGANIZER;CN="Gemeindepolizei Naters":MAILTO:gemeindepolizei@naters.ch
END:VEVENT
END:VCALENDAR